BEGIN:VCALENDAR
VERSION:2.0
PRODID:-//jEvents 2.0 for Joomla//EN
CALSCALE:GREGORIAN
METHOD:PUBLISH
BEGIN:VEVENT
UID:d48639dd50a9acb1abe9ad3fa3680171
CATEGORIES:Vollversammlung
CREATED:20230717T133848
SUMMARY:LKB Vollversammlung 2025
LOCATION:Stadthalle Bülach, Allmendstrasse 8, 8180 Bülach
DESCRIPTION:Unser Programm sieht wie folgt aus: 08.15 Uhr Business Notes Lernendenband 
 KV Zürich 08.25 Uhr Begrüssung Sébastien Pabst Präsident LKB 08.30 Uhr Grus
 swort von Beat Habegger Kantonsratspräsident 08.40 Uhr Geschäfte der LKB 1.
  Stimmenzählende 2. Protokoll der 57. Vollversammlung 3. Jahresbericht des 
 Vorstands 4. Verabschiedungen/Wahlen 5. Anträge 6. Verschiedenes 09.15 Uhr 
 Ansprache von Silvia Steiner, Bildungsdirektorin 09.30 Uhr Offenes Mikrofon
  mit Silvia Steiner und Niklaus Schatzmann, Amtschef MBA Pause 10.45 Uhr Bu
 siness Notes 11.00 Uhr Stärkung der mentalen Gesundheit im digitalen Zeital
 ter Referat von Barbara Studer Neurowissenschaftlerin und Musikerin 11.45 U
 hr Fragen zum Referat 12.00 Uhr Schluss 12.10 Uhr Apéro 12.30 Uhr Mittagess
 en Dokumente für die Vollversammlung 2025: Dateiname Größe Datum Protokoll 
 VV57 2024 278.89 KB 2025-10-24 Einladung VV 2025 127.74 KB 2025-10-24 Jahre
 sbericht 2025 542 KB 2025-11-04 Protokoll VV58 2025 220.12 KB 2025-12-03 Pr
 äsentationen der Vollversammlung 2025: Dateiname Größe Datum Präsentation V
 V2025 1.76 MB 2025-11-30
DTSTAMP:20260419T130757Z
DTSTART:20251120T071500Z
DTEND:20251120T113000Z
SEQUENCE:0
TRANSP:OPAQUE
END:VEVENT
END:VCALENDAR